BEGIN:VCALENDAR
VERSION:2.0
PRODID:-//ChamberMaster//Event Calendar 2.0//EN
METHOD:PUBLISH
X-PUBLISHED-TTL:P3D
REFRESH-INTERVAL:P3D
CALSCALE:GREGORIAN
BEGIN:VEVENT
DTSTART:20191212T220000Z
DTEND:20191212T233000Z
X-MICROSOFT-CDO-ALLDAYEVENT:FALSE
SUMMARY:Holiday After Hours Networking Mixer
DESCRIPTION:Join the Treasure Island & Madeira Beach Chamber of Commerce for our annual Holiday After Hours Networking Mixer! It's an evening of mixing & mingling\, and getting to know your fellow Chamber and community members.\n\nThis month's mixer will be hosted by Caddy's on the Beach\, Treasure Island.\n\nRegistration includes one free drink & appetizers.
X-ALT-DESC;FMTTYPE=text/html:<p background-color:="" color:="" palatino="" style="color: rgb(51\, 51\, 51)\; font-family: sans-serif\, Arial\, Verdana\, &quot\;Trebuchet MS&quot\;\; margin: 0px 0px 15px\; padding: 0px\; border: 0px\; font-variant-numeric: inherit\; font-variant-east-asian: inherit\; font-stretch: inherit\; font-size: 14px\; line-height: 25.2px\;" vertical-align:=""><span style="font-size:14px\;"><span style="font-family:verdana\;">Join the Treasure Island &amp\; Madeira Beach Chamber of Commerce for our annual Holiday After Hours Networking Mixer! It&#39\;s an evening of mixing &amp\; mingling\, and getting to know your fellow Chamber and community members.<br />\nThis month&#39\;s mixer will be hosted by Caddy&#39\;s on the Beach\, Treasure Island.</span></span></p>\n\n<p background-color:="" color:="" palatino="" style="color: rgb(51\, 51\, 51)\; font-family: sans-serif\, Arial\, Verdana\, &quot\;Trebuchet MS&quot\;\; margin: 0px 0px 15px\; padding: 0px\; border: 0px\; font-variant-numeric: inherit\; font-variant-east-asian: inherit\; font-stretch: inherit\; font-size: 14px\; line-height: 25.2px\;" vertical-align:=""><span style="font-size:14px\;"><span style="font-family:verdana\;">Registration includes one free drink &amp\; appetizers.</span></span></p>\n
LOCATION:Caddy's on the Beach 9000 West Gulf Blvd Treasure Island FL 33706
UID:e.3525.3365
SEQUENCE:3
DTSTAMP:20260420T084755Z
URL:https://members.timbchamber.org/events/details/holiday-after-hours-networking-mixer-3365
END:VEVENT

END:VCALENDAR
