BEGIN:VCALENDAR
VERSION:2.0
PRODID:-//ChamberMaster//Event Calendar 2.0//EN
METHOD:PUBLISH
X-PUBLISHED-TTL:P3D
REFRESH-INTERVAL:P3D
CALSCALE:GREGORIAN
BEGIN:VEVENT
DTSTART:20191208T130000Z
DTEND:20191208T170000Z
X-MICROSOFT-CDO-ALLDAYEVENT:FALSE
SUMMARY:Robby's Pancake Breakfast
DESCRIPTION:Come one\, come all and eat delicious pancakes!! \n\nOnce again Middle Grounds is donating their time and Pancakes to Gulf Beaches Rotary. If you've never had a Robby's pancake you need to try it! Only $5.00 for all you can eat.\n\nBring a new unwrapped toy to help fill the Red Sled for Foster Care Kids.
X-ALT-DESC;FMTTYPE=text/html:<span style="color: rgb(29\, 33\, 41)\; font-family: Helvetica\, Arial\, sans-serif\; font-size: 14px\; white-space: pre-wrap\; background-color: rgb(255\, 255\, 255)\;">Come one\, come all and eat delicious pancakes!! </span><br style="color: rgb(29\, 33\, 41)\; font-family: Helvetica\, Arial\, sans-serif\; font-size: 14px\; white-space: pre-wrap\; background-color: rgb(255\, 255\, 255)\;" />\n<span style="color: rgb(29\, 33\, 41)\; font-family: Helvetica\, Arial\, sans-serif\; font-size: 14px\; white-space: pre-wrap\; background-color: rgb(255\, 255\, 255)\;">Once again Middle Grounds is donating their time and Pancakes to Gulf Beaches Rotary. If you&rsquo\;ve never had a Robby&rsquo\;s pancake you need to try it! Only $5.00 for all you can eat.<br />\nBring a new unwrapped toy to help fill the Red Sled for Foster Care Kids.</span>
LOCATION:Treasure Island Community Center 154 106th Ave.\, Treasure Island FL 33706
UID:e.3525.1296
SEQUENCE:3
DTSTAMP:20260420T084717Z
URL:https://members.timbchamber.org/events/details/robby-s-pancake-breakfast-1296
END:VEVENT

END:VCALENDAR
