BEGIN:VCALENDAR
VERSION:2.0
PRODID:-//ChamberMaster//Event Calendar 2.0//EN
METHOD:PUBLISH
X-PUBLISHED-TTL:P3D
REFRESH-INTERVAL:P3D
CALSCALE:GREGORIAN
BEGIN:VEVENT
DTSTART:20191214T200000Z
DTEND:20191215T000000Z
X-MICROSOFT-CDO-ALLDAYEVENT:FALSE
SUMMARY:Vendor Registration - Merry Beach Market
DESCRIPTION:Join the Treasure Island & Madeira Beach Chamber of Commerce as we celebrate the holiday season with our inaugural Merry Beach Market. This event will be held in beautiful Madeira Beach at ROC Park Saturday\, December 14th from 3-7 pm. There will be a variety of local vendors\, live entertainment\, food and drink specials and a special photo op with Santa and Mrs. Clause! Rain or Shine Event. Fun for the whole Family\, PET FRIENDLY!\n\n\n\nAt the close of the market vendors and the public are asked to stay to see the Madeira Beach Lighted Boat Parade kick off from the seawall at ROC Park!\n\n\n\nTOY DRIVE: Bring an unwrapped toy to donate to The Christmas Toy Shop!\n\n\n\nMarket is Free & Open to the Public | Family Friendly\n\n\n\nVENDOR INFORMATION: Event is Free & Open to the Public | Family Friendly \n\n\n\nVendor Fees:\n\nChamber Members $25.00\n\nNon-Members $50.00\n\nFood Vendors - CLOSED $50.00 (Member & Non-Member)\n\n\n\nTo receive a vendor application call the Chamber office at 727-360-4121 or email us at: News@IslandNeighborsChamber.org\n\n\n\nVendor Space / Area: 10'x10' \n\n\n\nVendors are responsible to supply their own tent\, table\, chairs\, etc. \n\n\n\nThere is no electricity\, vendors are asked to bring battery operated lights if needed. ROC Park does have "ball field" lights which will turned on at dusk. \n\n\n\nMarket Hours: 3:00 - 7:00 pm\n\n\n\nVendor Set Up: 2:00-3:00 pm. Vendors to be ready to sell by 3 pm. \n\n\n\n- No Beverages can be sold or given away without prior approval form TI/MB Chamber of Commerce. \n\n- All selling\, signage and displays must be down within your vendor space.\n\n- This is a rain or shine event. Payment is due prior to participation.\n\n- Any necessary permits or licenses are vendor's responsibility.\n\n\n\nCall or email the Chamber with any questions:\n\n727-360-4121\n\nNews@IslandNeighborsChamber.org\n\n\n\nVENDOR LIST as of 11/19/19\n\nAngels Oils and Practical Magic - Angels statues\, ornaments\, mermaid ornaments\, spiritual themed signs\, tapestries\, fairies\, unicorns\n\nASPCA - The ASPCA is a national leader in animal rescue and protection\, working tirelessly to put an end to animal abuse and neglect.\n\nColor street Dry Nail Polish - Manicure & pedicure within MINUTES that lasts for weeks! No drying time! 100% real polish! Just peel\, stick and go!!\n\nDiny?s Diamonds of Florida\n\nIndependent Beauty Consultant - Mary K\n\nDiamond Dot Paintings\n\nElliott's Tails Children's Books\n\n31 Bags\n\nFlorida Seashell Art - Seashell art\, wreaths\, abstract art\, home decor\, ornaments\, hair accessories and more\n\nHerbs and Oils Pathways to Wellness - Herbal Teas\, Tinatures\, Topicals\, Essential Oils\n\nHouse of Synergy - Kava\, CBD\, Kratom and more\n\nJovita Treats - Gourmet\, Award Winning Local Jams & Jellies\n\nLily Rose Jewelry Co - Handmade semi-precious metaphysical crystal healing jewelry\n\nMinuteman Press of St Petersburg ? Personalized items \n\nNancy's Art - Pebble art\, paintings\, shell art\, wall hangings and more\n\nPainted Creations by Brenda - Hand painted wine glasses\, furniture\, Christmas ornaments\, home decor and more\n\nPaparazzi Jewelry - Jewelry as low as $5\n\nPaula Hodge - Arts & Crafts and Christmas Gifts\n\nPower of the Patches ? Stem Cell Patch Demo?s\n\nSalty Seaside Photography - Canvas Prints\, Greeting Cards\, Acrylic Boxes and photos and more\n\nScentsy - Scentsy warmers\, wax & products\n\nSheri?s Beads and Baubles - Jewelry and pendulums made from semiprecious gemstones\, wood and metal.  \n\nShop Dog Wood - Charcuterie Boards\, Serving Trays\, cutting boards\, wine caddys\, cheese slicers\, bottle openers\, decorative surf boards and more\n\nStumpy?s Hatchet House \n\nTee's creations ? Hand Sewn scarfs and shawls\n\nTex Creationz - Custom cutting boards\, live edge tables and Christmas ornaments\n\nThe Blue Feather ? Certified Spirit Medium\n\nTouchstone Crystal by Swarovski\n\nVein Institute of Pinellas\n\nWest Chiropractic Clinic\n\nWreaths & Angels Co\n\n \n\nFOOD VENDORS\n\nArtisan Coffee - Coffee\, Espresso\, Smoothies\, Frappuccino?s\n\nJimmy Bodean's BBQ and Catering ? Grilled cheese sandwiches\, tacos\, BBQ nachos and more!\n\nKona Ice of Southwest Pinellas ? Shaved Ice Truck\n\nMaggie on the Move - Fresh and healthy Mediterranean fusion cuisine\n\nSqueeze The Day Lemonade ? Fresh squeezed lemonade\n\nTI/MB Chamber of Commerce ? Beer & Wine
X-ALT-DESC;FMTTYPE=text/html:<span style="font-size:14px\;"><span style="font-family:verdana\;"><span style="background-color:none\;">Join the Treasure Island &amp\; Madeira Beach Chamber of Commerce as we celebrate the holiday season with our inaugural Merry Beach Market. This event will be held in beautiful Madeira Beach at ROC Park Saturday\, December 14</span><sup><span style="background-color:none\;">th</span></sup><span style="background-color:none\;"> from 3-7 pm. There will be a variety of local vendors\, live entertainment\, food and drink specials and a special photo op with Santa and Mrs. Clause! Rain or Shine Event. Fun for the whole Family\, PET FRIENDLY!</span><br />\n<br />\n<strong><em><span style="background-color:none\;">At the close of the market vendors and the public are asked to stay to see the Madeira Beach Lighted Boat Parade kick off from the seawall at ROC Park!</span></em></strong><br />\n<br />\n<strong><span style="background-color:none\;">TOY DRIVE: Bring an unwrapped toy to donate to </span><a href="https://www.xmastoyshop.org/"><span style="background-color:none\;">The Christmas Toy Shop!</span></a></strong><br />\n<br />\n<strong><span style="background-color:none\;">Market is Free &amp\; Open to the Public | Family Friendly</span></strong><br />\n<br />\n<u><strong><span style="background-color:none\;">VENDOR INFORMATION:&nbsp\;</span></strong></u><strong><span style="color:#333333\;"><span style="background-color:none\;">Event is Free &amp\; Open to the Public | Family Friendly&nbsp\;</span></span></strong><br />\n<br />\n<strong><span style="color:#333333\;"><strong><u><span style="background-color:none\;">Vendor Fees:</span></u></strong></span></strong><br style="font-variant-ligatures:normal\;font-variant-caps:normal\;orphans:2\;text-align:start\;widows:2\;-webkit-text-stroke-width:0px\;text-decoration-style:initial\;word-spacing:0px\;" />\n<span style="color:#333333\;"><span style="background:none\;"><span style="font-variant-ligatures:normal\;font-variant-caps:normal\;orphans:2\;text-align:start\;widows:2\;-webkit-text-stroke-width:0px\;text-decoration-style:initial\;float:none\;word-spacing:0px\;"><span style="background-color:none\;">Chamber Members $25.00</span></span></span><br style="font-variant-ligatures:normal\;font-variant-caps:normal\;orphans:2\;text-align:start\;widows:2\;-webkit-text-stroke-width:0px\;text-decoration-style:initial\;word-spacing:0px\;" />\n<span style="background:none\;"><span style="font-variant-ligatures:normal\;font-variant-caps:normal\;orphans:2\;text-align:start\;widows:2\;-webkit-text-stroke-width:0px\;text-decoration-style:initial\;float:none\;word-spacing:0px\;"><span style="background-color:none\;">Non-Members $50.00</span></span></span><br style="font-variant-ligatures:normal\;font-variant-caps:normal\;orphans:2\;text-align:start\;widows:2\;-webkit-text-stroke-width:0px\;text-decoration-style:initial\;word-spacing:0px\;" />\n<span style="background:none\;"><span style="font-variant-ligatures:normal\;font-variant-caps:normal\;orphans:2\;text-align:start\;widows:2\;-webkit-text-stroke-width:0px\;text-decoration-style:initial\;float:none\;word-spacing:0px\;"><span style="background-color:none\;">Food Vendors - <strong>CLOSED</strong> $50.00 (Member &amp\; Non-Member)</span></span></span></span></span><br />\n<br />\n<strong>To receive a vendor application call the Chamber office at 727-360-4121 or email us at: News@IslandNeighborsChamber.org</strong></span><br />\n<br />\n<span style="font-size:14px\;"><span style="font-family:verdana\;"><span style="color:#333333\;"><span style="background:none\;"><span style="font-variant-ligatures:normal\;font-variant-caps:normal\;orphans:2\;text-align:start\;widows:2\;-webkit-text-stroke-width:0px\;text-decoration-style:initial\;float:none\;word-spacing:0px\;"><strong><span style="background-color:none\;">Vendor Space / Area: 10&#39\;x10&#39\;&nbsp\;</span></strong></span></span><br />\n<br style="font-variant-ligatures:normal\;font-variant-caps:normal\;orphans:2\;text-align:start\;widows:2\;-webkit-text-stroke-width:0px\;text-decoration-style:initial\;word-spacing:0px\;" />\n<strong><u style="font-variant-ligatures:normal\;font-variant-caps:normal\;orphans:2\;text-align:start\;widows:2\;-webkit-text-stroke-width:0px\;word-spacing:0px\;"><span style="background-color:none\;">Vendors are responsible to supply their own tent\, table\, chairs\, etc.&nbsp\;</span></u></strong><br />\n<br />\n<u style="font-variant-ligatures:normal\;font-variant-caps:normal\;orphans:2\;text-align:start\;widows:2\;-webkit-text-stroke-width:0px\;word-spacing:0px\;"><span style="background-color:none\;">There is&nbsp\;</span><strong><span style="background-color:none\;">no electricity</span></strong><span style="background-color:none\;">\, vendors are asked to bring battery operated lights if needed. ROC Park does have &quot\;ball field&quot\; lights which will turned on at dusk.&nbsp\;</span><br />\n<br />\n<strong><span style="background-color:none\;">Market Hours:</span></strong></u><strong><u style="font-variant-ligatures:normal\;font-variant-caps:normal\;orphans:2\;text-align:start\;widows:2\;-webkit-text-stroke-width:0px\;word-spacing:0px\;"><span style="background-color:none\;"> 3:00 - 7:00 pm</span></u></strong><br />\n<br />\n<span style="background:none\;"><span style="font-variant-ligatures:normal\;font-variant-caps:normal\;orphans:2\;text-align:start\;widows:2\;-webkit-text-stroke-width:0px\;text-decoration-style:initial\;float:none\;word-spacing:0px\;"><strong><u><span style="background-color:none\;">Vendor Set Up</span></u><span style="background-color:none\;">:</span></strong><span style="background-color:none\;">&nbsp\;2:00-3:00 pm. Vendors to be ready to sell by 3 pm.&nbsp\;</span><br />\n<br />\n<span style="background-color:none\;">- No Beverages can be sold or given away without prior approval form TI/MB Chamber of Commerce.&nbsp\;</span><br />\n<span style="background-color:none\;">- All selling\, signage and displays must be down within your vendor space.</span><br />\n<span style="background-color:none\;">- This is a rain or shine event. Payment is due prior to participation.</span><br />\n<span style="background-color:none\;">-&nbsp\;Any necessary permits or licenses are vendor&#39\;s responsibility.</span></span></span></span></span></span><br />\n<br />\n<strong><span style="font-size:14px\;"><span style="font-family:verdana\;"><u><span style="background-color:none\;">Call or email the Chamber with any questions:</span></u><br />\n<span style="background-color:none\;">727-360-4121</span><br />\n<span style="background-color:none\;">News@IslandNeighborsChamber.org</span></span></span></strong><br />\n<br />\n<strong><u><span style="background-color:none\;">VENDOR LIST as of 11/19/19</span></u><br />\n<span style="background-color:none\;">Angels Oils and Practical Magic</span></strong><span style="background-color:none\;"> - Angels statues\, ornaments\, mermaid ornaments\, spiritual themed signs\, tapestries\, fairies\, unicorns</span><br />\n<strong><span style="background-color:none\;">ASPCA</span></strong><span style="background-color:none\;"> - </span><span style="background:none\;"><span style="color:black\;"><span style="background-color:none\;">The ASPCA is a national leader in animal rescue and protection\, working tirelessly to put an end to animal abuse and neglect.</span></span></span><br />\n<strong><span style="background-color:none\;">Color street Dry Nail Polish</span></strong><span style="background-color:none\;"> - </span><span style="background:none\;"><span style="color:#1C1E21\;"><span style="background-color:none\;">Manicure &amp\; pedicure within MINUTES that lasts for weeks! No drying time! 100% real polish! Just peel\, stick and go!!</span></span></span><br />\n<strong><span style="background:none\;"><span style="color:#1C1E21\;"><span style="background-color:none\;">Diny?s Diamonds of Florida</span></span></span></strong><br />\n<strong><span style="background:none\;"><span style="color:#1C1E21\;"><span style="background-color:none\;">Independent Beauty Consultant - </span></span></span></strong><span style="background:none\;"><span style="color:#1C1E21\;"><span style="background-color:none\;">Mary K</span></span></span><br />\n<strong><span style="background:none\;"><span style="color:#1C1E21\;"><span style="background-color:none\;">Diamond Dot Paintings</span></span></span></strong><br />\n<strong><span style="background:none\;"><span style="color:#1C1E21\;"><span style="background-color:none\;">Elliott&#39\;s Tails Children&#39\;s Books</span></span></span></strong><br />\n<strong><span style="background:none\;"><span style="color:#1C1E21\;"><span style="background-color:none\;">31 Bags</span></span></span></strong><br />\n<strong><span style="background:none\;"><span style="color:#1C1E21\;"><span style="background-color:none\;">Florida Seashell Art - </span></span></span></strong><span style="background:none\;"><span style="color:#1C1E21\;"><span style="background-color:none\;">Seashell art\, wreaths\, abstract art\, home decor\, ornaments\, hair accessories and more</span></span></span><br />\n<strong><span style="background:none\;"><span style="color:#1C1E21\;"><span style="background-color:none\;">Herbs and Oils Pathways to Wellness - </span></span></span></strong><span style="background:none\;"><span style="color:#1C1E21\;"><span style="background-color:none\;">Herbal Teas\, Tinatures\, Topicals\, Essential Oils</span></span></span><br />\n<strong><span style="background:none\;"><span style="color:#1C1E21\;"><span style="background-color:none\;">House of Synergy </span></span></span></strong><span style="background:none\;"><span style="color:#1C1E21\;"><span style="background-color:none\;">- Kava\, CBD\, Kratom and more</span></span></span><br />\n<strong><span style="background:none\;"><span style="color:#1C1E21\;"><span style="background-color:none\;">Jovita Treats - </span></span></span></strong><span style="background:none\;"><span style="color:#1C1E21\;"><span style="background-color:none\;">Gourmet\, Award Winning Local Jams &amp\; Jellies</span></span></span><br />\n<strong><span style="background:none\;"><span style="color:#1C1E21\;"><span style="background-color:none\;">Lily Rose Jewelry Co</span></span></span></strong><span style="background:none\;"><span style="color:#1C1E21\;"><span style="background-color:none\;"> - Handmade semi-precious metaphysical crystal healing jewelry</span></span></span><br />\n<strong><span style="background:none\;"><span style="color:#1C1E21\;"><span style="background-color:none\;">Minuteman Press of St Petersburg</span></span></span></strong><span style="background:none\;"><span style="color:#1C1E21\;"><span style="background-color:none\;"> ? Personalized items </span></span></span><br />\n<strong><span style="background:none\;"><span style="color:#1C1E21\;"><span style="background-color:none\;">Nancy&#39\;s Art </span></span></span></strong><span style="background:none\;"><span style="color:#1C1E21\;"><span style="background-color:none\;">- Pebble art\, paintings\, shell art\, wall hangings and more</span></span></span><br />\n<strong><span style="background:none\;"><span style="color:#1C1E21\;"><span style="background-color:none\;">Painted Creations by Brenda - </span></span></span></strong><span style="background:none\;"><span style="color:#1C1E21\;"><span style="background-color:none\;">Hand painted wine glasses\, furniture\, Christmas ornaments\, home decor and more</span></span></span><br />\n<strong><span style="background:none\;"><span style="color:#1C1E21\;"><span style="background-color:none\;">Paparazzi Jewelry - </span></span></span></strong><span style="background:none\;"><span style="color:#1C1E21\;"><span style="background-color:none\;">Jewelry as low as $5</span></span></span><br />\n<strong><span style="background:none\;"><span style="color:#1C1E21\;"><span style="background-color:none\;">Paula Hodge - </span></span></span></strong><span style="background:none\;"><span style="color:#1C1E21\;"><span style="background-color:none\;">Arts &amp\; Crafts and Christmas Gifts</span></span></span><br />\n<strong><span style="background:none\;"><span style="color:#1C1E21\;"><span style="background-color:none\;">Power of the Patches</span></span></span></strong><span style="background:none\;"><span style="color:#1C1E21\;"><span style="background-color:none\;"> ? Stem Cell Patch Demo?s</span></span></span><br />\n<strong><span style="background:none\;"><span style="color:#1C1E21\;"><span style="background-color:none\;">Salty Seaside Photography</span></span></span></strong><span style="background:none\;"><span style="color:#1C1E21\;"><span style="background-color:none\;"> - Canvas Prints\, Greeting Cards\, Acrylic Boxes and photos and more</span></span></span><br />\n<strong><span style="background:none\;"><span style="color:#1C1E21\;"><span style="background-color:none\;">Scentsy</span></span></span></strong><span style="background:none\;"><span style="color:#1C1E21\;"><span style="background-color:none\;"> - Scentsy warmers\, wax &amp\; products</span></span></span><br />\n<strong><span style="background:none\;"><span style="color:#1C1E21\;"><span style="background-color:none\;">Sheri?s Beads and Baubles </span></span></span></strong><span style="background:none\;"><span style="color:#1C1E21\;"><span style="background-color:none\;">- Jewelry and pendulums made from semiprecious gemstones\, wood and metal.&nbsp\; </span></span></span><br />\n<strong><span style="background:none\;"><span style="color:#1C1E21\;"><span style="background-color:none\;">Shop Dog Wood - </span></span></span></strong><span style="background:none\;"><span style="color:#1C1E21\;"><span style="background-color:none\;">Charcuterie Boards\, Serving Trays\, cutting boards\, wine caddys\, cheese slicers\, bottle openers\, decorative surf boards and more</span></span></span><br />\n<strong><span style="background:none\;"><span style="color:#1C1E21\;"><span style="background-color:none\;">Stumpy?s Hatchet House </span></span></span></strong><br />\n<strong><span style="background:none\;"><span style="color:#1C1E21\;"><span style="background-color:none\;">Tee&#39\;s creations ? </span></span></span></strong><span style="background:none\;"><span style="color:#1C1E21\;"><span style="background-color:none\;">Hand Sewn scarfs and shawls</span></span></span><br />\n<strong><span style="background:none\;"><span style="color:#1C1E21\;"><span style="background-color:none\;">Tex Creationz - </span></span></span></strong><span style="background:none\;"><span style="color:#1C1E21\;"><span style="background-color:none\;">Custom cutting boards\, live edge tables and Christmas ornaments</span></span></span><br />\n<strong><span style="background:none\;"><span style="color:#1C1E21\;"><span style="background-color:none\;">The Blue Feather ? </span></span></span></strong><span style="background:none\;"><span style="color:#1C1E21\;"><span style="background-color:none\;">Certified Spirit Medium</span></span></span><br />\n<strong><span style="background:none\;"><span style="color:#1C1E21\;"><span style="background-color:none\;">Touchstone Crystal by Swarovski</span></span></span></strong><br />\n<strong><span style="background:none\;"><span style="color:#1C1E21\;"><span style="background-color:none\;">Vein Institute of Pinellas</span></span></span></strong><br />\n<strong><span style="background:none\;"><span style="color:#1C1E21\;"><span style="background-color:none\;">West Chiropractic Clinic</span></span></span></strong><br />\n<strong><span style="background:none\;"><span style="color:#1C1E21\;"><span style="background-color:none\;">Wreaths &amp\; Angels Co</span></span></span></strong><br />\n<span style="background-color:none\;">&nbsp\;</span><br />\n<strong><u><span style="background-color:none\;">FOOD VENDORS</span></u></strong><br />\n<strong><span style="background-color:none\;">Artisan Coffee</span></strong><span style="background-color:none\;"> - Coffee\, Espresso\, Smoothies\, Frappuccino?s</span><br />\n<strong><span style="color:black\;"><span style="background-color:none\;">Jimmy Bodean&#39\;s BBQ and Catering </span></span></strong><span style="color:black\;"><span style="background-color:none\;">? Grilled cheese sandwiches\, tacos\, BBQ nachos and more!</span></span><br />\n<strong><span style="color:black\;"><span style="background-color:none\;">Kona Ice of Southwest Pinellas </span></span></strong><span style="color:black\;"><span style="background-color:none\;">? Shaved Ice Truck</span></span><br />\n<strong><span style="color:black\;"><span style="background-color:none\;">Maggie on the Move - </span></span></strong><span style="background:none\;"><span style="color:#1C1E21\;"><span style="background-color:none\;">Fresh and healthy Mediterranean fusion cuisine</span></span></span><br />\n<strong><span style="background:none\;"><span style="color:#1C1E21\;"><span style="background-color:none\;">Squeeze The Day Lemonade ? </span></span></span></strong><span style="background:none\;"><span style="color:#1C1E21\;"><span style="background-color:none\;">Fresh squeezed lemonade</span></span></span><br />\n<strong><span style="background:none\;"><span style="color:#1C1E21\;"><span style="background-color:none\;">TI/MB Chamber of Commerce</span></span></span></strong><span style="background:none\;"><span style="color:#1C1E21\;"><span style="background-color:none\;"> ? Beer &amp\; Wine</span></span></span><br />\n&nbsp\;
LOCATION:ROC Park 200 Rex Place Madeira Beach FL 33708 This is located behind Madeira Beach City Hall / Fire Department on the water.
UID:e.3525.3358
SEQUENCE:3
DTSTAMP:20260420T085327Z
URL:https://members.timbchamber.org/events/details/vendor-registration-merry-beach-market-3358
END:VEVENT

END:VCALENDAR
